BEGIN:VCALENDAR
VERSION:2.0
PRODID:-//Elite Youth Tour - ECPv6.15.18//NONSGML v1.0//EN
CALSCALE:GREGORIAN
METHOD:PUBLISH
X-WR-CALNAME:Elite Youth Tour
X-ORIGINAL-URL:https://www.eliteyouthtour.com
X-WR-CALDESC:Events for Elite Youth Tour
REFRESH-INTERVAL;VALUE=DURATION:PT1H
X-Robots-Tag:noindex
X-PUBLISHED-TTL:PT1H
BEGIN:VTIMEZONE
TZID:UTC
BEGIN:STANDARD
TZOFFSETFROM:+0000
TZOFFSETTO:+0000
TZNAME:UTC
DTSTART:20250101T000000
END:STANDARD
END:VTIMEZONE
BEGIN:VEVENT
DTSTART;TZID=UTC:20260228T090000
DTEND;TZID=UTC:20260228T150000
DTSTAMP:20260423T090620
CREATED:20260302T050119Z
LAST-MODIFIED:20260414T140014Z
UID:10000006-1772269200-1772290800@www.eliteyouthtour.com
SUMMARY:Elite Midwest Dock Solutions String Pins Open
DESCRIPTION:Elite Midwest Dock Solutions String Pins Open\nDate: February 28\, 2026\nVenue: Bowlero Romeoville\nLocation: 735 Center Blvd\, Romeoville\, IL 60446\nTime: 9:00 AM – Approx. 3:00 PM \nLane Pattern\n\n\n\n\n2025 Junior Gold #2 U15B\, U18B\nhttps://patternlibrary.kegel.net/pattern/d5abeb43-dd6e-f011-bec3-002248093064\n\n\n\nSocial Change on the Lanes: Animal Care & Control\nDonation drive: pet food\, kitty litter\, towels\, crates\, supplies.\nURL: https://www.chicago.gov/city/en/depts/cacc.html \nSpecial Notes: FIRST EVER STRING PINS EVENT (certified). Tournament Sponsor: Midwest Dock Solutions.
URL:https://www.eliteyouthtour.com/event/elite-midwest-dock-solutions-string-pins-open/
LOCATION:Bowlero Romeoville\, 735 Center Blvd\, Romeoville\, Illinois\,\, Romeoville\, IL\, 60446\, United States
ATTACH;FMTTYPE=image/avif:https://www.eliteyouthtour.com/wp-content/uploads/2026/03/Midwest-Dock.avif
ORGANIZER;CN="Elite Youth Tour":MAILTO:diandra@eliteyouthtour.com
END:VEVENT
END:VCALENDAR