BEGIN:VCALENDAR
VERSION:2.0
PRODID:-//Elite Youth Tour - ECPv6.15.18//NONSGML v1.0//EN
CALSCALE:GREGORIAN
METHOD:PUBLISH
X-WR-CALNAME:Elite Youth Tour
X-ORIGINAL-URL:https://www.eliteyouthtour.com
X-WR-CALDESC:Events for Elite Youth Tour
REFRESH-INTERVAL;VALUE=DURATION:PT1H
X-Robots-Tag:noindex
X-PUBLISHED-TTL:PT1H
BEGIN:VTIMEZONE
TZID:UTC
BEGIN:STANDARD
TZOFFSETFROM:+0000
TZOFFSETTO:+0000
TZNAME:UTC
DTSTART:20250101T000000
END:STANDARD
END:VTIMEZONE
BEGIN:VEVENT
DTSTART;TZID=UTC:20260404T090000
DTEND;TZID=UTC:20260404T150000
DTSTAMP:20260422T235826
CREATED:20260302T064845Z
LAST-MODIFIED:20260403T112720Z
UID:10000008-1775293200-1775314800@www.eliteyouthtour.com
SUMMARY:Youth Adult EYT Event
DESCRIPTION:Youth Adult EYT Event\n\nDate: April 4\, 2026\nVenue: Strike N Spare II\nAddress: 811 Northern Dr\, Lockport\, IL 60441\nTime: 9:00 AM – Approx. 3:00 PM \nLane Pattern\n\n\n\n\n2025 ITC Team – Women Addison\nhttps://patternlibrary.kegel.net/pattern/030517ec-4fff-ef11-bae3-6045bd02bdda
URL:https://www.eliteyouthtour.com/event/youth-adult-eyt/
LOCATION:Strike N Spare II\, Strike N Spare II\, 811 Northern Dr\,\, Lockport\, IL\, 60441\, United States
ATTACH;FMTTYPE=image/avif:https://www.eliteyouthtour.com/wp-content/uploads/2026/03/April-4.avif
ORGANIZER;CN="Elite Youth Tour":MAILTO:diandra@eliteyouthtour.com
END:VEVENT
END:VCALENDAR